BEGIN:VCALENDAR
VERSION:2.0
PRODID:-//Chase Terrace Academy - ECPv6.1.2.1//NONSGML v1.0//EN
CALSCALE:GREGORIAN
METHOD:PUBLISH
X-ORIGINAL-URL:https://chaseterraceacademy.co.uk
X-WR-CALDESC:Events for Chase Terrace Academy
REFRESH-INTERVAL;VALUE=DURATION:PT1H
X-Robots-Tag:noindex
X-PUBLISHED-TTL:PT1H
BEGIN:VTIMEZONE
TZID:Europe/London
BEGIN:DAYLIGHT
TZOFFSETFROM:+0000
TZOFFSETTO:+0100
TZNAME:BST
DTSTART:20260329T010000
END:DAYLIGHT
BEGIN:STANDARD
TZOFFSETFROM:+0100
TZOFFSETTO:+0000
TZNAME:GMT
DTSTART:20261025T010000
END:STANDARD
END:VTIMEZONE
BEGIN:VEVENT
DTSTART;VALUE=DATE:20260429
DTEND;VALUE=DATE:20260430
DTSTAMP:20260421T164855
CREATED:20250718T082446Z
LAST-MODIFIED:20250718T082446Z
UID:19347-1777420800-1777507199@chaseterraceacademy.co.uk
SUMMARY:Year 9 3-in-1 Teenage Booster Immunisations
DESCRIPTION:
URL:https://chaseterraceacademy.co.uk/event/year-9-3-in-1-teenage-booster-immunisations/
END:VEVENT
BEGIN:VEVENT
DTSTART;VALUE=DATE:20260429
DTEND;VALUE=DATE:20260430
DTSTAMP:20260421T164855
CREATED:20250718T082826Z
LAST-MODIFIED:20250718T082826Z
UID:19357-1777420800-1777507199@chaseterraceacademy.co.uk
SUMMARY:Comp3 BTEC Performing Arts all day rehearsal and evening exam performance
DESCRIPTION:
URL:https://chaseterraceacademy.co.uk/event/comp3-btec-performing-arts-all-day-rehearsal-and-evening-exam-performance/
END:VEVENT
BEGIN:VEVENT
DTSTART;VALUE=DATE:20260430
DTEND;VALUE=DATE:20260501
DTSTAMP:20260421T164855
CREATED:20250718T082344Z
LAST-MODIFIED:20260323T084759Z
UID:19345-1777507200-1777593599@chaseterraceacademy.co.uk
SUMMARY:Year 8 Progress Evening
DESCRIPTION:
URL:https://chaseterraceacademy.co.uk/event/year-8-progress-evening-4/
END:VEVENT
END:VCALENDAR